BEGIN:VCALENDAR
VERSION:2.0
PRODID:-//Child Advocates of Montgomery County - ECPv6.15.18//NONSGML v1.0//EN
CALSCALE:GREGORIAN
METHOD:PUBLISH
X-WR-CALNAME:Child Advocates of Montgomery County
X-ORIGINAL-URL:https://childadvocatestexas.org
X-WR-CALDESC:Events for Child Advocates of Montgomery County
REFRESH-INTERVAL;VALUE=DURATION:PT1H
X-Robots-Tag:noindex
X-PUBLISHED-TTL:PT1H
BEGIN:VTIMEZONE
TZID:America/New_York
BEGIN:DAYLIGHT
TZOFFSETFROM:-0500
TZOFFSETTO:-0400
TZNAME:EDT
DTSTART:20250309T070000
END:DAYLIGHT
BEGIN:STANDARD
TZOFFSETFROM:-0400
TZOFFSETTO:-0500
TZNAME:EST
DTSTART:20251102T060000
END:STANDARD
BEGIN:DAYLIGHT
TZOFFSETFROM:-0500
TZOFFSETTO:-0400
TZNAME:EDT
DTSTART:20260308T070000
END:DAYLIGHT
BEGIN:STANDARD
TZOFFSETFROM:-0400
TZOFFSETTO:-0500
TZNAME:EST
DTSTART:20261101T060000
END:STANDARD
BEGIN:DAYLIGHT
TZOFFSETFROM:-0500
TZOFFSETTO:-0400
TZNAME:EDT
DTSTART:20270314T070000
END:DAYLIGHT
BEGIN:STANDARD
TZOFFSETFROM:-0400
TZOFFSETTO:-0500
TZNAME:EST
DTSTART:20271107T060000
END:STANDARD
END:VTIMEZONE
BEGIN:VEVENT
DTSTART;TZID=America/New_York:20260612T090000
DTEND;TZID=America/New_York:20260612T133000
DTSTAMP:20260424T163813
CREATED:20260424T171735Z
LAST-MODIFIED:20260424T171735Z
UID:10000699-1781254800-1781271000@childadvocatestexas.org
SUMMARY:Youth Mental Health First Aid Training
DESCRIPTION:Child Advocates of Montgomery County is proud to partner with Tri-County Mental Health Services to offer the Youth Mental Health First Aid Course. \nYouth Mental Health First Aid teaches you how to identify\, understand and respond to signs of mental illness and substance use disorders. \nThis is a blended curriculum that includes 2 hours of pre-work and 4 1/2 hours of classroom training. \nVisit this page for full details and to enroll. \n  \nWe look forward to seeing you there!
URL:https://childadvocatestexas.org/event/youth-mental-health-first-aid-training/2026-06-12/
LOCATION:Child Advocates of Montgomery County\, 505 N. Main Street\, Conroe\, TX\, 77301\, United States
CATEGORIES:Continuing Education (for Advocates)
ATTACH;FMTTYPE=image/png:https://childadvocatestexas.org/wp-content/uploads/2025/04/Youth-Mental-Health-First-Aid.png
END:VEVENT
BEGIN:VEVENT
DTSTART;TZID=America/New_York:20260814T090000
DTEND;TZID=America/New_York:20260814T133000
DTSTAMP:20260424T163813
CREATED:20260424T171735Z
LAST-MODIFIED:20260424T171735Z
UID:10000700-1786698000-1786714200@childadvocatestexas.org
SUMMARY:Youth Mental Health First Aid Training
DESCRIPTION:Child Advocates of Montgomery County is proud to partner with Tri-County Mental Health Services to offer the Youth Mental Health First Aid Course. \nYouth Mental Health First Aid teaches you how to identify\, understand and respond to signs of mental illness and substance use disorders. \nThis is a blended curriculum that includes 2 hours of pre-work and 4 1/2 hours of classroom training. \nVisit this page for full details and to enroll. \n  \nWe look forward to seeing you there!
URL:https://childadvocatestexas.org/event/youth-mental-health-first-aid-training/2026-08-14/
LOCATION:Child Advocates of Montgomery County\, 505 N. Main Street\, Conroe\, TX\, 77301\, United States
CATEGORIES:Continuing Education (for Advocates)
ATTACH;FMTTYPE=image/png:https://childadvocatestexas.org/wp-content/uploads/2025/04/Youth-Mental-Health-First-Aid.png
END:VEVENT
END:VCALENDAR