BEGIN:VCALENDAR
VERSION:2.0
PRODID:-//Child Advocates of Montgomery County - ECPv6.15.18//NONSGML v1.0//EN
CALSCALE:GREGORIAN
METHOD:PUBLISH
X-WR-CALNAME:Child Advocates of Montgomery County
X-ORIGINAL-URL:https://childadvocatestexas.org
X-WR-CALDESC:Events for Child Advocates of Montgomery County
REFRESH-INTERVAL;VALUE=DURATION:PT1H
X-Robots-Tag:noindex
X-PUBLISHED-TTL:PT1H
BEGIN:VTIMEZONE
TZID:America/New_York
BEGIN:DAYLIGHT
TZOFFSETFROM:-0500
TZOFFSETTO:-0400
TZNAME:EDT
DTSTART:20240310T070000
END:DAYLIGHT
BEGIN:STANDARD
TZOFFSETFROM:-0400
TZOFFSETTO:-0500
TZNAME:EST
DTSTART:20241103T060000
END:STANDARD
BEGIN:DAYLIGHT
TZOFFSETFROM:-0500
TZOFFSETTO:-0400
TZNAME:EDT
DTSTART:20250309T070000
END:DAYLIGHT
BEGIN:STANDARD
TZOFFSETFROM:-0400
TZOFFSETTO:-0500
TZNAME:EST
DTSTART:20251102T060000
END:STANDARD
BEGIN:DAYLIGHT
TZOFFSETFROM:-0500
TZOFFSETTO:-0400
TZNAME:EDT
DTSTART:20260308T070000
END:DAYLIGHT
BEGIN:STANDARD
TZOFFSETFROM:-0400
TZOFFSETTO:-0500
TZNAME:EST
DTSTART:20261101T060000
END:STANDARD
END:VTIMEZONE
BEGIN:VEVENT
DTSTART;TZID=America/New_York:20250626T140000
DTEND;TZID=America/New_York:20250626T153000
DTSTAMP:20260422T132937
CREATED:20250602T193024Z
LAST-MODIFIED:20250602T193024Z
UID:10000510-1750946400-1750951800@childadvocatestexas.org
SUMMARY:Autism 101 Training (virtual)
DESCRIPTION:Join Katie Wamhoff\, Advocacy Specialist\, for this informative training! \nThis training is virtual and for individuals who are interested in learning about Autism Spectrum Disorders\, including: diagnostic criteria\, common therapies\, basic considerations for educating students on the Autism spectrum\, and ways to increase positive\, productive interactions for the advocate and the youth. \nRegister HERE to attend virtually.
URL:https://childadvocatestexas.org/event/autism-101-training-virtual-2/
CATEGORIES:Continuing Education (for Advocates)
ATTACH;FMTTYPE=image/png:https://childadvocatestexas.org/wp-content/uploads/2025/01/virtual-chat-with-child-advocates-1.png
END:VEVENT
BEGIN:VEVENT
DTSTART;TZID=America/New_York:20250626T170000
DTEND;TZID=America/New_York:20250626T183000
DTSTAMP:20260422T132937
CREATED:20250501T154342Z
LAST-MODIFIED:20250604T144815Z
UID:10000505-1750957200-1750962600@childadvocatestexas.org
SUMMARY:Child Advocates Book Club Gathering
DESCRIPTION:The Child Advocates Book Club meets every other month to discuss a book related to advocacy work. Volunteers earn training hours for reading the book and participating in the group discussion. \nFor questions\, contact Training & TBRI® Community Education Specialist Julie Brown at Julie@ChildAdvocatesTexas.org. You can join the book club at any time\, and you’re welcome to attend even if you haven’t read the book yet. \nIn June 2025\, the group will discuss AWE The New Science of Everyday Wonder and How It Can Transform Your Life by Dacher Keltner. \nJune 26 – 5:00 p.m. to 6:30 p.m.   \nSign up HERE to join us! \nGreat Room\n505 N. Main Street\nConroe\, Texas 77301
URL:https://childadvocatestexas.org/event/camc-book-club-gathering/
CATEGORIES:Continuing Education (for Advocates)
ATTACH;FMTTYPE=image/png:https://childadvocatestexas.org/wp-content/uploads/2025/05/AWE-book.png
END:VEVENT
END:VCALENDAR