BEGIN:VCALENDAR
VERSION:2.0
PRODID:-//Child Advocates of Montgomery County - ECPv6.15.18//NONSGML v1.0//EN
CALSCALE:GREGORIAN
METHOD:PUBLISH
X-ORIGINAL-URL:https://childadvocatestexas.org
X-WR-CALDESC:Events for Child Advocates of Montgomery County
REFRESH-INTERVAL;VALUE=DURATION:PT1H
X-Robots-Tag:noindex
X-PUBLISHED-TTL:PT1H
BEGIN:VTIMEZONE
TZID:America/New_York
BEGIN:DAYLIGHT
TZOFFSETFROM:-0500
TZOFFSETTO:-0400
TZNAME:EDT
DTSTART:20240310T070000
END:DAYLIGHT
BEGIN:STANDARD
TZOFFSETFROM:-0400
TZOFFSETTO:-0500
TZNAME:EST
DTSTART:20241103T060000
END:STANDARD
BEGIN:DAYLIGHT
TZOFFSETFROM:-0500
TZOFFSETTO:-0400
TZNAME:EDT
DTSTART:20250309T070000
END:DAYLIGHT
BEGIN:STANDARD
TZOFFSETFROM:-0400
TZOFFSETTO:-0500
TZNAME:EST
DTSTART:20251102T060000
END:STANDARD
BEGIN:DAYLIGHT
TZOFFSETFROM:-0500
TZOFFSETTO:-0400
TZNAME:EDT
DTSTART:20260308T070000
END:DAYLIGHT
BEGIN:STANDARD
TZOFFSETFROM:-0400
TZOFFSETTO:-0500
TZNAME:EST
DTSTART:20261101T060000
END:STANDARD
END:VTIMEZONE
BEGIN:VEVENT
DTSTART;TZID=America/New_York:20250613T100000
DTEND;TZID=America/New_York:20250613T140000
DTSTAMP:20260422T154316
CREATED:20250507T192642Z
LAST-MODIFIED:20250611T150939Z
UID:10000506-1749808800-1749823200@childadvocatestexas.org
SUMMARY:Sunshine & Smiles Advocate Toy Pick-Up
DESCRIPTION:  \n \n  \nWHO: Advocates\nWHAT: Toy Pick-Up for Summer Fun\nWHEN: Friday\, June 13\, 2025 | 10:00 a.m. to 2:00 p.m. (come-and-go event)\nWHERE: 505 N. Main Street | Conroe\, Texas 77301\nWHY: To select toys for children served by Advocates \nAdvocates are invited to join us Friday\, June 13\, anytime between 10:00 a.m. and 2:00 p.m. at the Child Advocates house for a Sunshine & Smiles Advocate Toy Pick-Up Day\, benefiting the children served by our programs. Advocates can select gifts for the children in their assigned cases while enjoying summer treats! This will be a come-and-go event for Advocates. If an Advocate is unable to attend\, they are welcome to stop by the house during business hours and select toys for the children they serve. We look forward to kicking off summer with you! Thank you for bringing the magic of summer and wonder of childhood to the children you serve!
URL:https://childadvocatestexas.org/event/sunshine-smiles-advocate-toy-pick-up/
LOCATION:Child Advocates of Montgomery County\, 505 N. Main Street\, Conroe\, TX\, 77301\, United States
CATEGORIES:Advocate Gatherings and Events
END:VEVENT
BEGIN:VEVENT
DTSTART;TZID=America/New_York:20250613T160000
DTEND;TZID=America/New_York:20250613T180000
DTSTAMP:20260422T154316
CREATED:20250602T200004Z
LAST-MODIFIED:20250602T210648Z
UID:10000515-1749830400-1749837600@childadvocatestexas.org
SUMMARY:Kendra Gives Back
DESCRIPTION:Join us for a Kendra Gives Back event! Shop for good both in-store and online\, and 20% of your purchase benefits Child Advocates of Montgomery County. \nIn-Store Giveback\nWHEN: Friday\, June 13\, 2025 | 4:00 p.m. to 6:00 p.m. (in-person event)\nWHERE: 9595 Six Pines Drive\, Suite 1010 | The Woodlands\, Texas 77380 (Market Street) \nOnline Giveback\nWHEN: Friday\, June 13 to Saturday\, June 14\, 2025 | Anytime\nWHERE: Use code: GIVEBACK-JKRUQ at www.KendraScott.com \n 
URL:https://childadvocatestexas.org/event/kendra-gives-back/
LOCATION:Kendra Scott | Market Street The Woodlands\, 9595 Six Pines Drive\, Suite 1010\, TX\, 77380\, United States
ATTACH;FMTTYPE=image/png:https://childadvocatestexas.org/wp-content/uploads/2025/06/Kendra-Scott-Give-Back-with-updated-logo-2025.png
END:VEVENT
END:VCALENDAR