BEGIN:VCALENDAR
VERSION:2.0
PRODID:-//Child Advocates of Montgomery County - ECPv6.15.18//NONSGML v1.0//EN
CALSCALE:GREGORIAN
METHOD:PUBLISH
X-ORIGINAL-URL:https://childadvocatestexas.org
X-WR-CALDESC:Events for Child Advocates of Montgomery County
REFRESH-INTERVAL;VALUE=DURATION:PT1H
X-Robots-Tag:noindex
X-PUBLISHED-TTL:PT1H
BEGIN:VTIMEZONE
TZID:America/New_York
BEGIN:DAYLIGHT
TZOFFSETFROM:-0500
TZOFFSETTO:-0400
TZNAME:EDT
DTSTART:20240310T070000
END:DAYLIGHT
BEGIN:STANDARD
TZOFFSETFROM:-0400
TZOFFSETTO:-0500
TZNAME:EST
DTSTART:20241103T060000
END:STANDARD
BEGIN:DAYLIGHT
TZOFFSETFROM:-0500
TZOFFSETTO:-0400
TZNAME:EDT
DTSTART:20250309T070000
END:DAYLIGHT
BEGIN:STANDARD
TZOFFSETFROM:-0400
TZOFFSETTO:-0500
TZNAME:EST
DTSTART:20251102T060000
END:STANDARD
BEGIN:DAYLIGHT
TZOFFSETFROM:-0500
TZOFFSETTO:-0400
TZNAME:EDT
DTSTART:20260308T070000
END:DAYLIGHT
BEGIN:STANDARD
TZOFFSETFROM:-0400
TZOFFSETTO:-0500
TZNAME:EST
DTSTART:20261101T060000
END:STANDARD
END:VTIMEZONE
BEGIN:VEVENT
DTSTART;TZID=America/New_York:20250610T120000
DTEND;TZID=America/New_York:20250610T140000
DTSTAMP:20260422T190051
CREATED:20250603T193202Z
LAST-MODIFIED:20250603T193202Z
UID:10000517-1749556800-1749564000@childadvocatestexas.org
SUMMARY:CASA Manager Training (Virtual)
DESCRIPTION:We’re excited to invite you to our CASA Manager training on Tuesday\, June 10\, at noon to two. \nThis virtual session will introduce you to the volunteer portal system\, ensuring you understand the workflows\, functions\, and features designed specifically for volunteers and staff. \n  \nRegister for CASA Manager Training
URL:https://childadvocatestexas.org/event/casa-manager-training-virtual/
CATEGORIES:Continuing Education (for Advocates)
ATTACH;FMTTYPE=image/png:https://childadvocatestexas.org/wp-content/uploads/2025/01/virtual-chat-with-child-advocates-1.png
END:VEVENT
END:VCALENDAR